BEGIN:VCALENDAR
VERSION:2.0
PRODID:-//Fredericksburg Moms - ECPv6.15.20//NONSGML v1.0//EN
CALSCALE:GREGORIAN
METHOD:PUBLISH
X-ORIGINAL-URL:https://fredericksburgmoms.com
X-WR-CALDESC:Events for Fredericksburg Moms
REFRESH-INTERVAL;VALUE=DURATION:PT1H
X-Robots-Tag:noindex
X-PUBLISHED-TTL:PT1H
BEGIN:VTIMEZONE
TZID:America/New_York
BEGIN:DAYLIGHT
TZOFFSETFROM:-0500
TZOFFSETTO:-0400
TZNAME:EDT
DTSTART:20250309T070000
END:DAYLIGHT
BEGIN:STANDARD
TZOFFSETFROM:-0400
TZOFFSETTO:-0500
TZNAME:EST
DTSTART:20251102T060000
END:STANDARD
BEGIN:DAYLIGHT
TZOFFSETFROM:-0500
TZOFFSETTO:-0400
TZNAME:EDT
DTSTART:20260308T070000
END:DAYLIGHT
BEGIN:STANDARD
TZOFFSETFROM:-0400
TZOFFSETTO:-0500
TZNAME:EST
DTSTART:20261101T060000
END:STANDARD
BEGIN:DAYLIGHT
TZOFFSETFROM:-0500
TZOFFSETTO:-0400
TZNAME:EDT
DTSTART:20270314T070000
END:DAYLIGHT
BEGIN:STANDARD
TZOFFSETFROM:-0400
TZOFFSETTO:-0500
TZNAME:EST
DTSTART:20271107T060000
END:STANDARD
END:VTIMEZONE
BEGIN:VEVENT
DTSTART;TZID=America/New_York:20260502T173000
DTEND;TZID=America/New_York:20260502T203000
DTSTAMP:20260419T105559
CREATED:20260313T174249Z
LAST-MODIFIED:20260313T174249Z
UID:10000935-1777743000-1777753800@fredericksburgmoms.com
SUMMARY:Kids Market with Fredericksburg Nationals
DESCRIPTION:Whether it’s a lemonade stand or a lawn mowing service\, children love participating in commerce!\nThe Children’s Entrepreneur Market gives kids ages 5–17 the opportunity to flex their entrepreneurial muscles in a marketplace run entirely by kids. From creating products and packaging them for sale to delivering their pitch and handling real transactions\, young business owners gain hands-on\, real-world experience in a safe and encouraging environment.\nWant to see it in action?\n Come support these budding entrepreneurs as they build confidence and sharpen their customer service skills. It’s free to attend and open to the public!\nHave a young entrepreneur ready to join?\n Reserve a booth today and let them experience the thrill of running their own business.\nLearn more and register at kidsmarkets.com. \n\n\n	Related
URL:https://fredericksburgmoms.com/event/kids-market-with-fredericksburg-nationals-2/
LOCATION:Virginia Credit Union Stadium – 42 Jackie Robinson way  Fredericksburg VA 22401
ATTACH;FMTTYPE=image/png:https://fredericksburgmoms.com/wp-content/uploads/2026/03/Fredericksburg-5_2.png
ORGANIZER;CN="Kids Markets":MAILTO:mtoves@kidsmarkets.com
END:VEVENT
BEGIN:VEVENT
DTSTART;TZID=America/New_York:20260606T173000
DTEND;TZID=America/New_York:20260606T203000
DTSTAMP:20260419T105559
CREATED:20260313T174048Z
LAST-MODIFIED:20260313T174048Z
UID:10000934-1780767000-1780777800@fredericksburgmoms.com
SUMMARY:Kids Market with Fredericksburg Nationals
DESCRIPTION:Whether it’s a lemonade stand or a lawn mowing service\, children love participating in commerce!\nThe Children’s Entrepreneur Market gives kids ages 5–17 the opportunity to flex their entrepreneurial muscles in a marketplace run entirely by kids. From creating products and packaging them for sale to delivering their pitch and handling real transactions\, young business owners gain hands-on\, real-world experience in a safe and encouraging environment.\nWant to see it in action?\n Come support these budding entrepreneurs as they build confidence and sharpen their customer service skills. It’s free to attend and open to the public!\nHave a young entrepreneur ready to join?\n Reserve a booth today and let them experience the thrill of running their own business.\nLearn more and register at kidsmarkets.com. \n\n\n	Related
URL:https://fredericksburgmoms.com/event/kids-market-with-fredericksburg-nationals/
LOCATION:Virginia Credit Union Stadium – 42 Jackie Robinson way  Fredericksburg VA 22401
ATTACH;FMTTYPE=image/png:https://fredericksburgmoms.com/wp-content/uploads/2026/03/Fredericksburg-6_6.png
ORGANIZER;CN="Kids Markets":MAILTO:mtoves@kidsmarkets.com
END:VEVENT
BEGIN:VEVENT
DTSTART;TZID=America/New_York:20260807T173000
DTEND;TZID=America/New_York:20260807T203000
DTSTAMP:20260419T105559
CREATED:20260313T174518Z
LAST-MODIFIED:20260313T174518Z
UID:10000936-1786123800-1786134600@fredericksburgmoms.com
SUMMARY:Kids Market with Fredericksburg Nationals
DESCRIPTION:Whether it’s a lemonade stand or a lawn mowing service\, children love participating in commerce!\nThe Children’s Entrepreneur Market gives kids ages 5–17 the opportunity to flex their entrepreneurial muscles in a marketplace run entirely by kids. From creating products and packaging them for sale to delivering their pitch and handling real transactions\, young business owners gain hands-on\, real-world experience in a safe and encouraging environment.\nWant to see it in action?\n Come support these budding entrepreneurs as they build confidence and sharpen their customer service skills. It’s free to attend and open to the public!\nHave a young entrepreneur ready to join?\n Reserve a booth today and let them experience the thrill of running their own business.\nLearn more and register at kidsmarkets.com. \n\n\n	Related
URL:https://fredericksburgmoms.com/event/kids-market-with-fredericksburg-nationals-3/
LOCATION:Virginia Credit Union Stadium – 42 Jackie Robinson way  Fredericksburg VA 22401
ATTACH;FMTTYPE=image/png:https://fredericksburgmoms.com/wp-content/uploads/2026/03/Fredericksburg-8_7.png
ORGANIZER;CN="Kids Markets":MAILTO:mtoves@kidsmarkets.com
END:VEVENT
END:VCALENDAR