BEGIN:VCALENDAR
VERSION:2.0
PRODID:-//Fredericksburg Moms - ECPv6.15.20//NONSGML v1.0//EN
CALSCALE:GREGORIAN
METHOD:PUBLISH
X-ORIGINAL-URL:https://fredericksburgmoms.com
X-WR-CALDESC:Events for Fredericksburg Moms
REFRESH-INTERVAL;VALUE=DURATION:PT1H
X-Robots-Tag:noindex
X-PUBLISHED-TTL:PT1H
BEGIN:VTIMEZONE
TZID:America/New_York
BEGIN:DAYLIGHT
TZOFFSETFROM:-0500
TZOFFSETTO:-0400
TZNAME:EDT
DTSTART:20250309T070000
END:DAYLIGHT
BEGIN:STANDARD
TZOFFSETFROM:-0400
TZOFFSETTO:-0500
TZNAME:EST
DTSTART:20251102T060000
END:STANDARD
BEGIN:DAYLIGHT
TZOFFSETFROM:-0500
TZOFFSETTO:-0400
TZNAME:EDT
DTSTART:20260308T070000
END:DAYLIGHT
BEGIN:STANDARD
TZOFFSETFROM:-0400
TZOFFSETTO:-0500
TZNAME:EST
DTSTART:20261101T060000
END:STANDARD
BEGIN:DAYLIGHT
TZOFFSETFROM:-0500
TZOFFSETTO:-0400
TZNAME:EDT
DTSTART:20270314T070000
END:DAYLIGHT
BEGIN:STANDARD
TZOFFSETFROM:-0400
TZOFFSETTO:-0500
TZNAME:EST
DTSTART:20271107T060000
END:STANDARD
END:VTIMEZONE
BEGIN:VEVENT
DTSTART;TZID=America/New_York:20260404T110000
DTEND;TZID=America/New_York:20260404T160000
DTSTAMP:20260423T054133
CREATED:20260325T214029Z
LAST-MODIFIED:20260325T214029Z
UID:10000951-1775300400-1775318400@fredericksburgmoms.com
SUMMARY:Patawomeck Easter Eggstravaganza
DESCRIPTION:Hop on over for visits with the Easter Bunny\,  egg hunts\, moon bounce\, shopping\, food  and fun at the Patawomeck Easter Eggstravaganza!\n\n\nJoin the Fun at the Patawomeck Easter Eggstravaganza!\nHop on over and celebrate spring with us at the Patawomeck Easter Eggstravaganza! It’s gonna be a blast for the whole family\, full of egg hunts\, Easter Bunny visits/photos\, moon bounce\, face painting\, laser tag\, DJ music\, shopping with local vendors\, and yummy treats. Don’t miss out on the laughter\, excitement\, and making awesome memories. Bring your baskets and your smiles — the eggs are hiding and waiting for YOU! \nEGG HUNTS 1:00 & 3:00 \nFOR VENDOR INFORMATION EMAIL CRAFTYCONNECTIONSEVENTS@GMAIL.COM \n\n\n\n\n	Related
URL:https://fredericksburgmoms.com/event/patawomeck-easter-eggstravaganza-2/
LOCATION:Patawomeck Museum & Cultural Center\, 638 Kings Highway\, Fredericksburg\, VA\, 22405\, United States
ATTACH;FMTTYPE=image/jpeg:https://fredericksburgmoms.com/wp-content/uploads/2026/03/1d537600c5cdb83ea028492c327ad7af.jpg
END:VEVENT
END:VCALENDAR