BEGIN:VCALENDAR
VERSION:2.0
PRODID:-//Fredericksburg Moms - ECPv6.15.20//NONSGML v1.0//EN
CALSCALE:GREGORIAN
METHOD:PUBLISH
X-ORIGINAL-URL:https://fredericksburgmoms.com
X-WR-CALDESC:Events for Fredericksburg Moms
REFRESH-INTERVAL;VALUE=DURATION:PT1H
X-Robots-Tag:noindex
X-PUBLISHED-TTL:PT1H
BEGIN:VTIMEZONE
TZID:America/New_York
BEGIN:DAYLIGHT
TZOFFSETFROM:-0500
TZOFFSETTO:-0400
TZNAME:EDT
DTSTART:20250309T070000
END:DAYLIGHT
BEGIN:STANDARD
TZOFFSETFROM:-0400
TZOFFSETTO:-0500
TZNAME:EST
DTSTART:20251102T060000
END:STANDARD
BEGIN:DAYLIGHT
TZOFFSETFROM:-0500
TZOFFSETTO:-0400
TZNAME:EDT
DTSTART:20260308T070000
END:DAYLIGHT
BEGIN:STANDARD
TZOFFSETFROM:-0400
TZOFFSETTO:-0500
TZNAME:EST
DTSTART:20261101T060000
END:STANDARD
BEGIN:DAYLIGHT
TZOFFSETFROM:-0500
TZOFFSETTO:-0400
TZNAME:EDT
DTSTART:20270314T070000
END:DAYLIGHT
BEGIN:STANDARD
TZOFFSETFROM:-0400
TZOFFSETTO:-0500
TZNAME:EST
DTSTART:20271107T060000
END:STANDARD
END:VTIMEZONE
BEGIN:VEVENT
DTSTART;TZID=America/New_York:20260711T150000
DTEND;TZID=America/New_York:20260711T203000
DTSTAMP:20260423T054922
CREATED:20260409T233443Z
LAST-MODIFIED:20260409T233443Z
UID:10000977-1783782000-1783801800@fredericksburgmoms.com
SUMMARY:Children’s fashion show
DESCRIPTION:Join us for a delightful day of little fashion stars\, fun vendor booths\, and family-friendly activities that everyone will love! \nHosted by Luca bees baby boutique! \nFree community event in market square.  \n\n\n	Related
URL:https://fredericksburgmoms.com/event/childrens-fashion-show/
LOCATION:Fredericksburg Area Museum\, 907 Princess Anne Street\, Fredericksburg\, VA\, 22401\, United States
CATEGORIES:Community Events
ATTACH;FMTTYPE=image/jpeg:https://fredericksburgmoms.com/wp-content/uploads/2026/04/37E850D3-5345-4513-99E3-C4681EE9B664.jpeg
ORGANIZER;CN="luxa":MAILTO:lucabeesbabyboutique@gmail.com
END:VEVENT
END:VCALENDAR