BEGIN:VCALENDAR
VERSION:2.0
PRODID:-//Fredericksburg Moms - ECPv6.15.20//NONSGML v1.0//EN
CALSCALE:GREGORIAN
METHOD:PUBLISH
X-WR-CALNAME:Fredericksburg Moms
X-ORIGINAL-URL:https://fredericksburgmoms.com
X-WR-CALDESC:Events for Fredericksburg Moms
REFRESH-INTERVAL;VALUE=DURATION:PT1H
X-Robots-Tag:noindex
X-PUBLISHED-TTL:PT1H
BEGIN:VTIMEZONE
TZID:America/New_York
BEGIN:DAYLIGHT
TZOFFSETFROM:-0500
TZOFFSETTO:-0400
TZNAME:EDT
DTSTART:20250309T070000
END:DAYLIGHT
BEGIN:STANDARD
TZOFFSETFROM:-0400
TZOFFSETTO:-0500
TZNAME:EST
DTSTART:20251102T060000
END:STANDARD
BEGIN:DAYLIGHT
TZOFFSETFROM:-0500
TZOFFSETTO:-0400
TZNAME:EDT
DTSTART:20260308T070000
END:DAYLIGHT
BEGIN:STANDARD
TZOFFSETFROM:-0400
TZOFFSETTO:-0500
TZNAME:EST
DTSTART:20261101T060000
END:STANDARD
BEGIN:DAYLIGHT
TZOFFSETFROM:-0500
TZOFFSETTO:-0400
TZNAME:EDT
DTSTART:20270314T070000
END:DAYLIGHT
BEGIN:STANDARD
TZOFFSETFROM:-0400
TZOFFSETTO:-0500
TZNAME:EST
DTSTART:20271107T060000
END:STANDARD
END:VTIMEZONE
BEGIN:VEVENT
DTSTART;TZID=America/New_York:20260322T080000
DTEND;TZID=America/New_York:20260322T120000
DTSTAMP:20260422T101116
CREATED:20260210T194348Z
LAST-MODIFIED:20260210T194348Z
UID:10000892-1774166400-1774180800@fredericksburgmoms.com
SUMMARY:Tree of Life 10K\, 5K & Pioneer 1 Mile Race
DESCRIPTION:Tree of Life 10K\, 5K & Pioneer 1 Mile Race (FARC Grand Prix Event)\nJoin us Sunday\, March 22\, 2026 for the Tree of Life Race at 1st Day of Chancellorsville Battlefield in Fredericksburg! This year the certified 5K course is part of the Fredericksburg Area Running Club (FARC) Grand Prix Series\, making it a great race for competitive runners and casual participants alike. \nRace morning includes a 10K (8:00 AM)\, 5K (8:10 AM)\, and Pioneer 1 Mile Fun Run (9:15 AM). Proceeds support Christian education and the local VFW. \nRegistration and details: https://runsignup.com/Race/VA/Fredericksburg/TreeofLife5KPioneer1MileRace \n\n\n	Related
URL:https://fredericksburgmoms.com/event/tree-of-life-10k-5k-pioneer-1-mile-race/
LOCATION:First Day at Chancellorsville Battlefield\, 6159 Plank Road\, Fredericksburg\, 22407
ATTACH;FMTTYPE=image/png:https://fredericksburgmoms.com/wp-content/uploads/2026/02/TLC-Prep-Race-Facebook-Event-.png
ORGANIZER;CN="Tree Of Life Christian Prep School":MAILTO:principal@tlcprep.org
END:VEVENT
END:VCALENDAR