BEGIN:VCALENDAR
VERSION:2.0
PRODID:-//Fredericksburg Moms - ECPv6.15.20//NONSGML v1.0//EN
CALSCALE:GREGORIAN
METHOD:PUBLISH
X-ORIGINAL-URL:https://fredericksburgmoms.com
X-WR-CALDESC:Events for Fredericksburg Moms
REFRESH-INTERVAL;VALUE=DURATION:PT1H
X-Robots-Tag:noindex
X-PUBLISHED-TTL:PT1H
BEGIN:VTIMEZONE
TZID:America/New_York
BEGIN:DAYLIGHT
TZOFFSETFROM:-0500
TZOFFSETTO:-0400
TZNAME:EDT
DTSTART:20250309T070000
END:DAYLIGHT
BEGIN:STANDARD
TZOFFSETFROM:-0400
TZOFFSETTO:-0500
TZNAME:EST
DTSTART:20251102T060000
END:STANDARD
BEGIN:DAYLIGHT
TZOFFSETFROM:-0500
TZOFFSETTO:-0400
TZNAME:EDT
DTSTART:20260308T070000
END:DAYLIGHT
BEGIN:STANDARD
TZOFFSETFROM:-0400
TZOFFSETTO:-0500
TZNAME:EST
DTSTART:20261101T060000
END:STANDARD
BEGIN:DAYLIGHT
TZOFFSETFROM:-0500
TZOFFSETTO:-0400
TZNAME:EDT
DTSTART:20270314T070000
END:DAYLIGHT
BEGIN:STANDARD
TZOFFSETFROM:-0400
TZOFFSETTO:-0500
TZNAME:EST
DTSTART:20271107T060000
END:STANDARD
END:VTIMEZONE
BEGIN:VEVENT
DTSTART;TZID=America/New_York:20260509T110000
DTEND;TZID=America/New_York:20260509T160000
DTSTAMP:20260424T072055
CREATED:20260325T214030Z
LAST-MODIFIED:20260325T214030Z
UID:10000953-1778324400-1778342400@fredericksburgmoms.com
SUMMARY:MOTHER'S DAY MARKET AT THE WILDERNESS
DESCRIPTION:Celebrate Mom with unique finds and good vibes at the Mother’s Day Market in the Wilderness!\n\n\nJoin Us for MOTHER’S DAY MARKET AT THE WILDERNESS!\nLooking for the perfect way to celebrate Mom? Swing by our in-person market filled with unique gifts\, local goodies\, and good vibes. Whether you’re browsing for something special or just enjoying the day\, it’s the spot to be. Bring the whole family and make some amazing memories together! \nFOR VENDOR INFORMATION EMAIL CRAFTYCONNECTIONSEVENTS@GMAIL.COM \n\n\n\n\n	Related
URL:https://fredericksburgmoms.com/event/mothers-day-market-at-the-wilderness/
LOCATION:Wilderness Presidential Resort\, 9220 Plank Road\, Spotsylvania Courthouse\, VA\, 22553\, United States
ATTACH;FMTTYPE=image/jpeg:https://fredericksburgmoms.com/wp-content/uploads/2026/03/cd4ddcd543ae776a234cc3203129133d.jpg
END:VEVENT
BEGIN:VEVENT
DTSTART;TZID=America/New_York:20260516T110000
DTEND;TZID=America/New_York:20260516T160000
DTSTAMP:20260424T072055
CREATED:20260325T214031Z
LAST-MODIFIED:20260325T214031Z
UID:10000954-1778929200-1778947200@fredericksburgmoms.com
SUMMARY:1ST ANNUAL HOUSE & HOME SHOW AT REVATONE FARM
DESCRIPTION:Check out cool home ideas and local vendors at the 1st Annual House & Home Show at Revatone Farm!\n\n\nWelcome to the 1ST ANNUAL HOUSE & HOME SHOW at Revatone Farm!\nJoin us for a fun-filled day exploring the latest trends in house and home. Whether you’re dreaming of a cozy upgrade or just love all things homey\, this event is perfect for you! Meet local experts\, discover unique products\, and get inspired by amazing ideas. Don’t miss out on this exciting opportunity to connect and celebrate all things home sweet home. \nFOR VENDOR INFORMATION EMAIL CRAFTYCONNECTIONSEVENTS@GMAIL.COM \n\n\n\n\n\n	Related
URL:https://fredericksburgmoms.com/event/1st-annual-house-home-show-at-revatone-farm/
LOCATION:Revatone Farm\, 10828 Catharpin Road\, Spotsylvania Courthouse\, 22553
ATTACH;FMTTYPE=image/jpeg:https://fredericksburgmoms.com/wp-content/uploads/2026/03/c86093a04235b6cae846fdedbd3cf65b.jpg
END:VEVENT
BEGIN:VEVENT
DTSTART;TZID=America/New_York:20260523T110000
DTEND;TZID=America/New_York:20260523T160000
DTSTAMP:20260424T072055
CREATED:20260325T214031Z
LAST-MODIFIED:20260325T214031Z
UID:10000955-1779534000-1779552000@fredericksburgmoms.com
SUMMARY:PATAWOMECK MEMORIAL DAY MARKET
DESCRIPTION:Join us at PATAWOMECK MEMORIAL DAY MARKET for good vibes\, local goods\, and fun times in person!\n\n\nPATAWOMECK MEMORIAL DAY MARKET\nJoin us at the Patawomeck Museum & Cultural Center on May 23\, 2026 at 11:00 AM (Eastern Daylight Time) for a fun and relaxed Memorial Day Market. Explore unique local crafts\, tasty treats\, moon bounce\, face painting\, DJ music and connect with the community. It’s the perfect way to celebrate the day with friends and family. Don’t miss out on this awesome event! \nFOR VENDOR INFORMATION EMAIL CRAFTYCONNECTIONSEVENTS@GMAIL.COM \n\n\n\n\n\n	Related
URL:https://fredericksburgmoms.com/event/patawomeck-memorial-day-market/
LOCATION:Patawomeck Museum & Cultural Center\, 638 Kings Highway\, Fredericksburg\, VA\, 22405\, United States
ATTACH;FMTTYPE=image/jpeg:https://fredericksburgmoms.com/wp-content/uploads/2026/03/c32bc1be9e596eff2f2f6632e29617a6.jpg
END:VEVENT
BEGIN:VEVENT
DTSTART;TZID=America/New_York:20260808T110000
DTEND;TZID=America/New_York:20260808T160000
DTSTAMP:20260424T072055
CREATED:20260325T214032Z
LAST-MODIFIED:20260325T214032Z
UID:10000956-1786186800-1786204800@fredericksburgmoms.com
SUMMARY:BACK TO SCHOOL BASH & CRAFT FAIR
DESCRIPTION:Join us for fun\, crafts\, and back-to-school vibes at the ultimate Bash & Craft Fair—don’t miss out!\n\n\nJoin Us for the BACK TO SCHOOL BASH & CRAFT FAIR!\nGet ready to kick off the school year with fun\, friends\, and fantastic crafts. This event is the perfect way to celebrate with your community. Explore unique handmade items\, enjoy great vibes\, and soak up all the back-to-school excitement. Bring your crew\, discover cool crafts\, and make some awesome memories! \nFOR VENDOR INFORMATION EMAIL CRAFTYCONNECTIONSEVENTS@GMAIL.COM \n\n\n\n\n\n	Related
URL:https://fredericksburgmoms.com/event/back-to-school-bash-craft-fair/
LOCATION:Wilderness Presidential Resort\, 9220 Plank Road\, Spotsylvania Courthouse\, VA\, 22553\, United States
ATTACH;FMTTYPE=image/jpeg:https://fredericksburgmoms.com/wp-content/uploads/2026/03/c0d4fb22e505141d294595be57e6da85.jpg
END:VEVENT
BEGIN:VEVENT
DTSTART;TZID=America/New_York:20260906T110000
DTEND;TZID=America/New_York:20260906T160000
DTSTAMP:20260424T072055
CREATED:20260325T214033Z
LAST-MODIFIED:20260325T214033Z
UID:10000957-1788692400-1788710400@fredericksburgmoms.com
SUMMARY:WILDERNESS FALL FESTIVAL
DESCRIPTION:Join us for the Wilderness Fall Festival – shop with local vendors\, enjoy yummy food and dessert trucks.\n\n\nWILDERNESS FALL FESTIVAL\nJoin us at the Wilderness Presidential Resort for an awesome day of fun and fall vibes! Mark your calendar for September 6\, 2026 at 11:00 AM (Eastern Time). Expect great company\, cool activities\, and a chance to soak in the beautiful autumn scenery. Don’t miss out on this chill celebration of the season – see you there! \n\n\n\n\n\n	Related
URL:https://fredericksburgmoms.com/event/wilderness-fall-festival-3/
LOCATION:Wilderness Presidential Resort\, 9220 Plank Road\, Spotsylvania Courthouse\, VA\, 22553\, United States
ATTACH;FMTTYPE=image/jpeg:https://fredericksburgmoms.com/wp-content/uploads/2026/03/6e99d2975553d7a3c4469cedbb7649fd.jpg
END:VEVENT
BEGIN:VEVENT
DTSTART;TZID=America/New_York:20261018T110000
DTEND;TZID=America/New_York:20261018T160000
DTSTAMP:20260424T072055
CREATED:20260325T214033Z
LAST-MODIFIED:20260325T214033Z
UID:10000958-1792321200-1792339200@fredericksburgmoms.com
SUMMARY:WILDERNESS HALLOWEEN FESTIVAL
DESCRIPTION:Get ready for trick or treating to our vendors\, costume contests\, and shopping  adventures at the coolest Halloween bash in the wilderness!\n\n\nWILDERNESS HALLOWEEN FESTIVAL\nGet ready for a spooky good time at the Wilderness Halloween Festival! Join us on October 18\, 2026 at 11:00 AM (Eastern Daylight Time) at the Wilderness Presidential Resort. Expect fun costume contests\, trick or treating to our vendors\, and a great food. Bring your friends and family for a day full of laughs and Halloween spirit. Don’t miss out on this awesome event! \nFOR VENDOR INFORMATION EMAIL CRAFTYCONNECTIONSEVENTS@GMAIL.COM \n\n\n\n\n\n	Related
URL:https://fredericksburgmoms.com/event/wilderness-halloween-festival/
LOCATION:Wilderness Presidential Resort\, 9220 Plank Road\, Spotsylvania Courthouse\, VA\, 22553\, United States
ATTACH;FMTTYPE=image/jpeg:https://fredericksburgmoms.com/wp-content/uploads/2026/03/d88514d924aa5a708c0615b4b9c0359d.jpg
END:VEVENT
BEGIN:VEVENT
DTSTART;TZID=America/New_York:20261024T110000
DTEND;TZID=America/New_York:20261024T160000
DTSTAMP:20260424T072055
CREATED:20260325T214034Z
LAST-MODIFIED:20260325T214034Z
UID:10000959-1792839600-1792857600@fredericksburgmoms.com
SUMMARY:PATAWOMECK HALLOWEEN FESTIVAL
DESCRIPTION:Come join the spooky fun at Patawomeck Halloween Festival—costume contests\, treats\, and shopping  await!\n\n\nPATAWOMECK HALLOWEEN FESTIVAL\nGet ready for a spooktacular time at the PATAWOMECK HALLOWEEN FESTIVAL! Join us for a day packed with fun\, frights\, and festive vibes. Whether you’re into costume contests\, trick or treating to our vendors\, or shopping with friends\, this event’s got you covered. Don’t miss out on the coolest Halloween bash around! \nFOR VENDOR INFORMATION EMAIL CRAFTYCONNECTIONSEVENTS@GMAIL.COM \n\n\n\n\n\n	Related
URL:https://fredericksburgmoms.com/event/patawomeck-halloween-festival/
LOCATION:Patawomeck Museum & Cultural Center\, 638 Kings Highway\, Fredericksburg\, VA\, 22405\, United States
ATTACH;FMTTYPE=image/jpeg:https://fredericksburgmoms.com/wp-content/uploads/2026/03/79413793e13f0d71528d76bcf8593aab.jpg
END:VEVENT
BEGIN:VEVENT
DTSTART;TZID=America/New_York:20261107T090000
DTEND;TZID=America/New_York:20261107T143000
DTSTAMP:20260424T072055
CREATED:20260325T214035Z
LAST-MODIFIED:20260325T214035Z
UID:10000960-1794042000-1794061800@fredericksburgmoms.com
SUMMARY:BROOKE POINT DANCE TEAM FALL CRAFT FAIR
DESCRIPTION:Come check out cool crafts and support the Brooke Point Dance Team at their fun fall fair!\n\n\nBROOKE POINT DANCE TEAM FALL CRAFT FAIR\nCome join us for the awesome BROOKE POINT DANCE TEAM FALL CRAFT FAIR! It’s the perfect spot to explore unique handmade crafts\, support local artists\, and get in the fall spirit. Bring your friends and family for a fun day filled with creativity\, good vibes\, and maybe even some dance team magic! \nFOR VENDOR INFORMATION EMAIL BPDANCETEAM@GMAIL.COM \n\n\n\n\n\n	Related
URL:https://fredericksburgmoms.com/event/brooke-point-dance-team-fall-craft-fair-2/
LOCATION:Brooke Point High School\, 1700 Courthouse Road\, Stafford\, VA\, 22554\, United States
ATTACH;FMTTYPE=image/jpeg:https://fredericksburgmoms.com/wp-content/uploads/2026/03/f39029244c587310999948d96bd88a18.jpg
END:VEVENT
END:VCALENDAR