BEGIN:VCALENDAR
VERSION:2.0
PRODID:-//Fredericksburg Moms - ECPv6.15.20//NONSGML v1.0//EN
CALSCALE:GREGORIAN
METHOD:PUBLISH
X-WR-CALNAME:Fredericksburg Moms
X-ORIGINAL-URL:https://fredericksburgmoms.com
X-WR-CALDESC:Events for Fredericksburg Moms
REFRESH-INTERVAL;VALUE=DURATION:PT1H
X-Robots-Tag:noindex
X-PUBLISHED-TTL:PT1H
BEGIN:VTIMEZONE
TZID:America/New_York
BEGIN:DAYLIGHT
TZOFFSETFROM:-0500
TZOFFSETTO:-0400
TZNAME:EDT
DTSTART:20250309T070000
END:DAYLIGHT
BEGIN:STANDARD
TZOFFSETFROM:-0400
TZOFFSETTO:-0500
TZNAME:EST
DTSTART:20251102T060000
END:STANDARD
BEGIN:DAYLIGHT
TZOFFSETFROM:-0500
TZOFFSETTO:-0400
TZNAME:EDT
DTSTART:20260308T070000
END:DAYLIGHT
BEGIN:STANDARD
TZOFFSETFROM:-0400
TZOFFSETTO:-0500
TZNAME:EST
DTSTART:20261101T060000
END:STANDARD
BEGIN:DAYLIGHT
TZOFFSETFROM:-0500
TZOFFSETTO:-0400
TZNAME:EDT
DTSTART:20270314T070000
END:DAYLIGHT
BEGIN:STANDARD
TZOFFSETFROM:-0400
TZOFFSETTO:-0500
TZNAME:EST
DTSTART:20271107T060000
END:STANDARD
END:VTIMEZONE
BEGIN:VEVENT
DTSTART;TZID=America/New_York:20260807T170000
DTEND;TZID=America/New_York:20260807T210000
DTSTAMP:20260421T114109
CREATED:20251113T155350Z
LAST-MODIFIED:20251113T155350Z
UID:10000830-1786122000-1786136400@fredericksburgmoms.com
SUMMARY:First Friday
DESCRIPTION:In the heart of Downtown Fredericksburg\, woven into the tapestry of one of America’s most historic cities\, are eight art galleries and studios\, each a vibrant celebration of visual creativity. On First Fridays for the past 30 years\, the galleries have drawn thousands to Downtown Fredericksburg to check out local art\, rub shoulders with the artists\, listen to street-corner musicians\, and sample the fares and wares at Downtown’s 21 restaurants and 30 late-night shops. Some\, if they’re of age\, buy a craft beverage so they can sip and stroll\, all while walking\, talking\, and gawking at the diverse riches Downtown Fredericksburg has to offer. Others hop on and off the free trolley that loops through the arts and business district. Featuring exhibitions\, performances\, and special events–FXBG First Friday is worlds within worlds\, waiting for you to explore.
URL:https://fredericksburgmoms.com/event/first-friday-10/
LOCATION:Downtown Fredericksburg
CATEGORIES:Community Events,Dining,Entertainment,Shopping
ORGANIZER;CN="Fredericksburg Main Street":MAILTO:info@fredericksburgmainstreet.org
END:VEVENT
BEGIN:VEVENT
DTSTART;TZID=America/New_York:20260807T173000
DTEND;TZID=America/New_York:20260807T203000
DTSTAMP:20260421T114109
CREATED:20260313T174518Z
LAST-MODIFIED:20260313T174518Z
UID:10000936-1786123800-1786134600@fredericksburgmoms.com
SUMMARY:Kids Market with Fredericksburg Nationals
DESCRIPTION:Whether it’s a lemonade stand or a lawn mowing service\, children love participating in commerce!\nThe Children’s Entrepreneur Market gives kids ages 5–17 the opportunity to flex their entrepreneurial muscles in a marketplace run entirely by kids. From creating products and packaging them for sale to delivering their pitch and handling real transactions\, young business owners gain hands-on\, real-world experience in a safe and encouraging environment.\nWant to see it in action?\n Come support these budding entrepreneurs as they build confidence and sharpen their customer service skills. It’s free to attend and open to the public!\nHave a young entrepreneur ready to join?\n Reserve a booth today and let them experience the thrill of running their own business.\nLearn more and register at kidsmarkets.com.
URL:https://fredericksburgmoms.com/event/kids-market-with-fredericksburg-nationals-3/
LOCATION:Virginia Credit Union Stadium – 42 Jackie Robinson way  Fredericksburg VA 22401
ATTACH;FMTTYPE=image/png:https://fredericksburgmoms.com/wp-content/uploads/2026/03/Fredericksburg-8_7.png
ORGANIZER;CN="Kids Markets":MAILTO:mtoves@kidsmarkets.com
END:VEVENT
BEGIN:VEVENT
DTSTART;TZID=America/New_York:20260808T110000
DTEND;TZID=America/New_York:20260808T160000
DTSTAMP:20260421T114109
CREATED:20260325T214032Z
LAST-MODIFIED:20260325T214032Z
UID:10000956-1786186800-1786204800@fredericksburgmoms.com
SUMMARY:BACK TO SCHOOL BASH & CRAFT FAIR
DESCRIPTION:Join us for fun\, crafts\, and back-to-school vibes at the ultimate Bash & Craft Fair—don’t miss out!\n\n\nJoin Us for the BACK TO SCHOOL BASH & CRAFT FAIR!\nGet ready to kick off the school year with fun\, friends\, and fantastic crafts. This event is the perfect way to celebrate with your community. Explore unique handmade items\, enjoy great vibes\, and soak up all the back-to-school excitement. Bring your crew\, discover cool crafts\, and make some awesome memories! \nFOR VENDOR INFORMATION EMAIL CRAFTYCONNECTIONSEVENTS@GMAIL.COM
URL:https://fredericksburgmoms.com/event/back-to-school-bash-craft-fair/
LOCATION:Wilderness Presidential Resort\, 9220 Plank Road\, Spotsylvania Courthouse\, VA\, 22553\, United States
ATTACH;FMTTYPE=image/jpeg:https://fredericksburgmoms.com/wp-content/uploads/2026/03/c0d4fb22e505141d294595be57e6da85.jpg
END:VEVENT
BEGIN:VEVENT
DTSTART;TZID=America/New_York:20260808T160000
DTEND;TZID=America/New_York:20260808T210000
DTSTAMP:20260421T114109
CREATED:20260122T132304Z
LAST-MODIFIED:20260122T132304Z
UID:10000863-1786204800-1786222800@fredericksburgmoms.com
SUMMARY:VIRGINIA BOURBON and BEER FESTIVAL
DESCRIPTION:Indulge in a lively evening of Bourbon & Craft Beer tasting as we celebrate the finest distilled spirits at this one-of-a-kind event.\n\n\nJoin us for an unforgettable evening of BOURBON and CRAFT BEER at the Virginia Bourbon and Beer Festival. Get ready to taste a wide variety of bourbons and handcrafted beers\, all in one place. Whether you’re a bourbon connoisseur or a beer enthusiast\, this event has something for everyone. \nSip on smooth and rich Bourbons\, known for their distinct flavors and unique profiles. Sample small-batch craft beers\, carefully brewed with passion and creativity by local breweries.  \nImmerse yourself in the world of distilled spirits as you learn from VIRGINIA brand experts and discover the art that is VIRGINIA Bourbon. \nBut the experience doesn’t stop at the drinks. Groove to the rhythm of live music that will keep you entertained throughout the event. These live performances will add an extra layer of fun to your evening. \nSo mark your calendars and join us at the Virginia Bourbon & Beer Festival for an incredible celebration of Bourbon\, Craft Beer.  Unwind and indulge in the finest spirits and brews that Virginia & beyond has to offer.  Tasting glass and samples included with your ticket.
URL:https://fredericksburgmoms.com/event/virginia-bourbon-and-beer-festival-3/
LOCATION:Fredericksburg Fairgrounds\, 2400 Airport Ave\, Fredericksburg\, VA\, 22401\, United States
ATTACH;FMTTYPE=image/jpeg:https://fredericksburgmoms.com/wp-content/uploads/2024/02/28b3d3a3a13d708d303f852b398f0fbf.jpg
END:VEVENT
END:VCALENDAR