BEGIN:VCALENDAR
VERSION:2.0
PRODID:-//Fredericksburg Moms - ECPv6.15.20//NONSGML v1.0//EN
CALSCALE:GREGORIAN
METHOD:PUBLISH
X-ORIGINAL-URL:https://fredericksburgmoms.com
X-WR-CALDESC:Events for Fredericksburg Moms
REFRESH-INTERVAL;VALUE=DURATION:PT1H
X-Robots-Tag:noindex
X-PUBLISHED-TTL:PT1H
BEGIN:VTIMEZONE
TZID:America/New_York
BEGIN:DAYLIGHT
TZOFFSETFROM:-0500
TZOFFSETTO:-0400
TZNAME:EDT
DTSTART:20250309T070000
END:DAYLIGHT
BEGIN:STANDARD
TZOFFSETFROM:-0400
TZOFFSETTO:-0500
TZNAME:EST
DTSTART:20251102T060000
END:STANDARD
BEGIN:DAYLIGHT
TZOFFSETFROM:-0500
TZOFFSETTO:-0400
TZNAME:EDT
DTSTART:20260308T070000
END:DAYLIGHT
BEGIN:STANDARD
TZOFFSETFROM:-0400
TZOFFSETTO:-0500
TZNAME:EST
DTSTART:20261101T060000
END:STANDARD
BEGIN:DAYLIGHT
TZOFFSETFROM:-0500
TZOFFSETTO:-0400
TZNAME:EDT
DTSTART:20270314T070000
END:DAYLIGHT
BEGIN:STANDARD
TZOFFSETFROM:-0400
TZOFFSETTO:-0500
TZNAME:EST
DTSTART:20271107T060000
END:STANDARD
END:VTIMEZONE
BEGIN:VEVENT
DTSTART;TZID=America/New_York:20260709T180000
DTEND;TZID=America/New_York:20260709T200000
DTSTAMP:20260421T130124
CREATED:20260309T174012Z
LAST-MODIFIED:20260309T174012Z
UID:10000920-1783620000-1783627200@fredericksburgmoms.com
SUMMARY:Barks & Recreation
DESCRIPTION:https://www.fredericksburgva.gov/calendar.aspx?EID=3834
URL:https://fredericksburgmoms.com/event/barks-recreation-4/
LOCATION:Fredericksburg Dog Park  – 1448 Kenmore Ave  Fredericksburg VA 22401
END:VEVENT
BEGIN:VEVENT
DTSTART;TZID=America/New_York:20260711T150000
DTEND;TZID=America/New_York:20260711T203000
DTSTAMP:20260421T130124
CREATED:20260409T233443Z
LAST-MODIFIED:20260409T233443Z
UID:10000977-1783782000-1783801800@fredericksburgmoms.com
SUMMARY:Children’s fashion show
DESCRIPTION:Join us for a delightful day of little fashion stars\, fun vendor booths\, and family-friendly activities that everyone will love! \nHosted by Luca bees baby boutique! \nFree community event in market square.
URL:https://fredericksburgmoms.com/event/childrens-fashion-show/
LOCATION:Fredericksburg Area Museum\, 907 Princess Anne Street\, Fredericksburg\, VA\, 22401\, United States
CATEGORIES:Community Events
ATTACH;FMTTYPE=image/jpeg:https://fredericksburgmoms.com/wp-content/uploads/2026/04/37E850D3-5345-4513-99E3-C4681EE9B664.jpeg
ORGANIZER;CN="luxa":MAILTO:lucabeesbabyboutique@gmail.com
END:VEVENT
BEGIN:VEVENT
DTSTART;TZID=America/New_York:20260712T080000
DTEND;TZID=America/New_York:20260712T130000
DTSTAMP:20260421T130124
CREATED:20260313T175201Z
LAST-MODIFIED:20260313T175201Z
UID:10000938-1783843200-1783861200@fredericksburgmoms.com
SUMMARY:Kids Market with the Long Family Farmers Market
DESCRIPTION:Whether it’s a lemonade stand or a lawn mowing service\, children love participating in commerce!\nThe Children’s Entrepreneur Market gives kids ages 5–17 the opportunity to flex their entrepreneurial muscles in a marketplace run entirely by kids. From creating products and packaging them for sale to delivering their pitch and handling real transactions\, young business owners gain hands-on\, real-world experience in a safe and encouraging environment.\nWant to see it in action?\n Come support these budding entrepreneurs as they build confidence and sharpen their customer service skills. It’s free to attend and open to the public!\nHave a young entrepreneur ready to join?\n Reserve a booth today and let them experience the thrill of running their own business.\nLearn more and register at kidsmarkets.com.
URL:https://fredericksburgmoms.com/event/kids-market-with-the-long-family-farmers-market/
LOCATION:610 Commuter Lot\, 163 Staffordboro Blvd\, Stafford\, 22556
ATTACH;FMTTYPE=image/png:https://fredericksburgmoms.com/wp-content/uploads/2026/03/Stafford-7_12.png
ORGANIZER;CN="Kids Markets":MAILTO:mtoves@kidsmarkets.com
END:VEVENT
END:VCALENDAR