BEGIN:VCALENDAR
VERSION:2.0
PRODID:-//Fredericksburg Moms - ECPv6.15.16.1//NONSGML v1.0//EN
CALSCALE:GREGORIAN
METHOD:PUBLISH
X-WR-CALNAME:Fredericksburg Moms
X-ORIGINAL-URL:https://fredericksburgmoms.com
X-WR-CALDESC:Events for Fredericksburg Moms
REFRESH-INTERVAL;VALUE=DURATION:PT1H
X-Robots-Tag:noindex
X-PUBLISHED-TTL:PT1H
BEGIN:VTIMEZONE
TZID:America/New_York
BEGIN:DAYLIGHT
TZOFFSETFROM:-0500
TZOFFSETTO:-0400
TZNAME:EDT
DTSTART:20250309T070000
END:DAYLIGHT
BEGIN:STANDARD
TZOFFSETFROM:-0400
TZOFFSETTO:-0500
TZNAME:EST
DTSTART:20251102T060000
END:STANDARD
BEGIN:DAYLIGHT
TZOFFSETFROM:-0500
TZOFFSETTO:-0400
TZNAME:EDT
DTSTART:20260308T070000
END:DAYLIGHT
BEGIN:STANDARD
TZOFFSETFROM:-0400
TZOFFSETTO:-0500
TZNAME:EST
DTSTART:20261101T060000
END:STANDARD
BEGIN:DAYLIGHT
TZOFFSETFROM:-0500
TZOFFSETTO:-0400
TZNAME:EDT
DTSTART:20270314T070000
END:DAYLIGHT
BEGIN:STANDARD
TZOFFSETFROM:-0400
TZOFFSETTO:-0500
TZNAME:EST
DTSTART:20271107T060000
END:STANDARD
END:VTIMEZONE
BEGIN:VEVENT
DTSTART;TZID=America/New_York:20260415T180000
DTEND;TZID=America/New_York:20260415T190000
DTSTAMP:20260309T093803
CREATED:20260301T214320Z
LAST-MODIFIED:20260301T221322Z
UID:10000912-1776276000-1776279600@fredericksburgmoms.com
SUMMARY:Kids Club Coin Club
DESCRIPTION:Kids join us for a FREE fun 1 hour event\, to learn about coins\, collect and win prizes.
URL:https://fredericksburgmoms.com/event/the-big-oink/
LOCATION:Coin Club for Kids\, VA\, United States
CATEGORIES:Children's Activities
ATTACH;FMTTYPE=image/jpeg:https://fredericksburgmoms.com/wp-content/uploads/2026/03/KIDS-COIN-CLUB-APRIL.jpg
END:VEVENT
BEGIN:VEVENT
DTSTART;TZID=America/New_York:20260418T110000
DTEND;TZID=America/New_York:20260418T170000
DTSTAMP:20260309T093803
CREATED:20260224T172521Z
LAST-MODIFIED:20260224T172521Z
UID:10000911-1776510000-1776531600@fredericksburgmoms.com
SUMMARY:2026 Earth Day Festival
DESCRIPTION:https://www.fredericksburgva.gov/calendar.aspx?EID=3818
URL:https://fredericksburgmoms.com/event/2026-earth-day-festival/
LOCATION:Old Mill Park  – 2201 Caroline st  Fredericksburg VA 22401
END:VEVENT
BEGIN:VEVENT
DTSTART;TZID=America/New_York:20260418T130000
DTEND;TZID=America/New_York:20260418T170000
DTSTAMP:20260309T093803
CREATED:20260224T165943Z
LAST-MODIFIED:20260224T165943Z
UID:10000907-1776517200-1776531600@fredericksburgmoms.com
SUMMARY:Glass to Gems Mother-Daughter Workshop
DESCRIPTION:Join us for a fun\, hands-on workshop where moms and daughters create relationships built on trust and real connection.\n\n\nGlass to Gems Mother-Daughter Workshop\nMothers and daughters deserve relationships built on trust\, emotional safety\, and real connection — not constant tension\, miscommunication\, or emotional distance. \nJoin us for a powerful 4-hour interactive experience designed to help you: \n✔ Strengthen emotional bonds✔ Improve communication✔ Build resilience together✔ Navigate conflict with confidence✔ Create meaningful connection rituals \n** Open to mother-daughter teams ages 9 and older
URL:https://fredericksburgmoms.com/event/glass-to-gems-mother-daughter-workshop/
LOCATION:415 Wolfe St\, 415 Wolfe Street\, Fredericksburg\, VA\, 22401\, United States
CATEGORIES:Art
ATTACH;FMTTYPE=image/jpeg:https://fredericksburgmoms.com/wp-content/uploads/2026/02/e9acc77e18e856886caeccc8da5ea8fb.jpg
END:VEVENT
END:VCALENDAR