BEGIN:VCALENDAR
VERSION:2.0
PRODID:-//Fredericksburg Moms - ECPv6.15.20//NONSGML v1.0//EN
CALSCALE:GREGORIAN
METHOD:PUBLISH
X-WR-CALNAME:Fredericksburg Moms
X-ORIGINAL-URL:https://fredericksburgmoms.com
X-WR-CALDESC:Events for Fredericksburg Moms
REFRESH-INTERVAL;VALUE=DURATION:PT1H
X-Robots-Tag:noindex
X-PUBLISHED-TTL:PT1H
BEGIN:VTIMEZONE
TZID:America/New_York
BEGIN:DAYLIGHT
TZOFFSETFROM:-0500
TZOFFSETTO:-0400
TZNAME:EDT
DTSTART:20250309T070000
END:DAYLIGHT
BEGIN:STANDARD
TZOFFSETFROM:-0400
TZOFFSETTO:-0500
TZNAME:EST
DTSTART:20251102T060000
END:STANDARD
BEGIN:DAYLIGHT
TZOFFSETFROM:-0500
TZOFFSETTO:-0400
TZNAME:EDT
DTSTART:20260308T070000
END:DAYLIGHT
BEGIN:STANDARD
TZOFFSETFROM:-0400
TZOFFSETTO:-0500
TZNAME:EST
DTSTART:20261101T060000
END:STANDARD
BEGIN:DAYLIGHT
TZOFFSETFROM:-0500
TZOFFSETTO:-0400
TZNAME:EDT
DTSTART:20270314T070000
END:DAYLIGHT
BEGIN:STANDARD
TZOFFSETFROM:-0400
TZOFFSETTO:-0500
TZNAME:EST
DTSTART:20271107T060000
END:STANDARD
END:VTIMEZONE
BEGIN:VEVENT
DTSTART;TZID=America/New_York:20260401T000000
DTEND;TZID=America/New_York:20260430T235959
DTSTAMP:20260422T065142
CREATED:20260401T195101Z
LAST-MODIFIED:20260401T195101Z
UID:10000969-1775001600-1777593599@fredericksburgmoms.com
SUMMARY:National Arcade Day Monster Mini Golf
DESCRIPTION:🕹 Celebrate National Arcade Day with a little monster-sized fun. \nApril 8 is National Arcade Day\, and we’re celebrating all month long! At Monster Mini Golf Stafford\, arcade games\, glowing courses\, and competition bring monsters and humans together for a one-of-a-kind experience this April. \nStep into our state-of-the-art arcade and enjoy classic favorites\, modern games\, and prize-winning fun for all ages. Plan a family outing in Stafford for the perfect place to play. \n👉 Visit our Stafford location page for online deals and specials!
URL:https://fredericksburgmoms.com/event/national-arcade-day-monster-mini-golf/
LOCATION:Monster Mini Golf Stafford\, 308 Worth Avenue 109\, Stafford\, Virginia\, 22556\, United States
ORGANIZER;CN="Monster Mini Golf Stafford":MAILTO:stafford@monsterminigolf.com
END:VEVENT
BEGIN:VEVENT
DTSTART;TZID=America/New_York:20260408T180000
DTEND;TZID=America/New_York:20260408T200000
DTSTAMP:20260422T065142
CREATED:20260320T190744Z
LAST-MODIFIED:20260320T190744Z
UID:10000946-1775671200-1775678400@fredericksburgmoms.com
SUMMARY:FREE Party Trivia Night to Support Local Nonprofits and Build Community
DESCRIPTION:Party Trivia for a Cause – April Lineup\nEvery Wednesday at Brock’s Riverside Grill | 6–8 PM\nGet ready to flex your brain muscles and have a blast while supporting local causes at our Charity Trivia Night!\nHosted by: Go Local FXBG\nSponsored by Lpt Realty\n Brock’s Riverside Grill\n503 Sophia Street | Downtown Fredericksburg\, VA\n Free to Play | Prizes + Raffles | Community Impact\nNonprofits We’re Supporting:\nApril 1 – Go Local FXBG\nEmpowering underserved communities through workforce development\, youth internships\, and small business support. For more info – https://golocalfxbg.org/programs\nApril 8 – The Knowledge Exchange\nDelivering tutoring\, enrichment\, and mental health–aligned programming that helps students grow academically and socially. For more info – https://tkenonprofit.org/\nApril 15 – Stafford Junction\nSupporting families facing crisis with food security\, workforce readiness\, and stability-centered programming. For more info – https://staffordjunction.org/\nApril 22 – Remy’s Reign\nRescues\, rehabilitates\, and rehomes neglected and unwanted dogs and cats across Virginia\, giving every animal a second chance at a safe and loving home. For more info – https://remysreign.org/\nApril 29 – Healthy Families\nStrengthening parents and caregivers with early childhood resources that build strong foundations for lifelong success. For more info – https://healthyfamiliesrappahannock.org/\n We are currently seeking an April Community Sponsor!\nInterested in partnering? Email: info@golocalfxbg.org\n What to Expect:\n• Free to play — bring your team (or join one!)\n• $100 Brock’s gift card for 1st place\n• Swag prizes for 2nd & 3rd\n• 50/50 raffle benefiting the nonprofit of the week\n• Food & drink specials from Brock’s\nEvery question answered helps spotlight a mission.\nEvery Wednesday builds stronger community.\nCome for the trivia. Stay for the impact.
URL:https://fredericksburgmoms.com/event/free-party-trivia-night-to-support-local-nonprofits-and-build-community/2026-04-08/
LOCATION:Brock’s Riverside Grill\, 503 Sophia St\, Fredericksburg\, VA\, 22401\, United States
CATEGORIES:Community Events
ATTACH;FMTTYPE=image/png:https://fredericksburgmoms.com/wp-content/uploads/2026/03/Trivia-April-Brocks-FB-Event-Cover.png
ORGANIZER;CN="Go Local FXBG":MAILTO:info@golocalfxbg.com
END:VEVENT
BEGIN:VEVENT
DTSTART;TZID=America/New_York:20260409T180000
DTEND;TZID=America/New_York:20260409T200000
DTSTAMP:20260422T065142
CREATED:20260309T174010Z
LAST-MODIFIED:20260309T174010Z
UID:10000915-1775757600-1775764800@fredericksburgmoms.com
SUMMARY:Barks & Recreation
DESCRIPTION:https://www.fredericksburgva.gov/calendar.aspx?EID=3831
URL:https://fredericksburgmoms.com/event/barks-recreation/
LOCATION:Fredericksburg Dog Park  – 1448 Kenmore Ave  Fredericksburg VA 22401
END:VEVENT
BEGIN:VEVENT
DTSTART;TZID=America/New_York:20260410T120000
DTEND;TZID=America/New_York:20260410T150000
DTSTAMP:20260422T065142
CREATED:20260212T153255Z
LAST-MODIFIED:20260212T220903Z
UID:10000893-1775822400-1775833200@fredericksburgmoms.com
SUMMARY:Newcomers and Old Friends Spring Fashion Show
DESCRIPTION:Join us for an elegant afternoon celebrating spring style and community spirit at Lake of the Woods Clubhouse. Enjoy a beautiful fashion presentation featuring seasonal looks from Belk’s and N Style Fashion Gallery. The event includes a delicious 3-course luncheon\, live entertainment\, 50/50 drawing\, basket raffle/silent auction and door prizes. A wonderful blend of fashion\, fine dining and fun!
URL:https://fredericksburgmoms.com/event/newcomers-and-old-friends-spring-fashion-show/
LOCATION:Lake of the Woods Clubhouse\, 102 Lake of the Woods Way\, Locust Grove\, Virginia\, 22508
ATTACH;FMTTYPE=image/webp:https://fredericksburgmoms.com/wp-content/uploads/2026/02/newcomers-and-old-friends.webp
END:VEVENT
BEGIN:VEVENT
DTSTART;TZID=America/New_York:20260410T180000
DTEND;TZID=America/New_York:20260410T200000
DTSTAMP:20260422T065142
CREATED:20260330T192532Z
LAST-MODIFIED:20260330T192532Z
UID:10000964-1775844000-1775851200@fredericksburgmoms.com
SUMMARY:Skate Night- Neon Bloom
DESCRIPTION:https://www.fredericksburgva.gov/calendar.aspx?EID=3868
URL:https://fredericksburgmoms.com/event/skate-night-neon-bloom/
LOCATION:Dixon Park  – 1300 Dixon st  Fredericksburg VA 22401
END:VEVENT
BEGIN:VEVENT
DTSTART;TZID=America/New_York:20260411T070000
DTEND;TZID=America/New_York:20260411T103000
DTSTAMP:20260422T065142
CREATED:20260323T174323Z
LAST-MODIFIED:20260323T174323Z
UID:10000950-1775890800-1775903400@fredericksburgmoms.com
SUMMARY:Spring Fever 5K and Kids 1/2-mile Fun Run
DESCRIPTION:Stafford Hospital Foundation will host its annual Spring Fever 5K Run/Walk to support the operation program\, training\, and equipment needs of Stafford Hospital.  This event supports our mission “to improve the health of the people in the communities we serve.”  This year’s race will take place in person on the Stafford Hospital campus\, so lace up your sneakers and come join the fun! A FUN Team Challenge\, Kids ½-mile Fun Run\, and a live deejay will also be a part of the day’s events.
URL:https://fredericksburgmoms.com/event/spring-fever-5k-and-kids-1-2-mile-fun-run/
LOCATION:VA
CATEGORIES:Community Events,Family Events,Food and Drink,Health and Wellness Events,Live Music,Outdoor Events,Sports and Recreation Events,Spring Events
ATTACH;FMTTYPE=image/png:https://fredericksburgmoms.com/wp-content/uploads/2026/03/Stafford-Hospital-5K-NEW-LOGO-Bright-colors.png
END:VEVENT
BEGIN:VEVENT
DTSTART;TZID=America/New_York:20260411T100000
DTEND;TZID=America/New_York:20260411T120000
DTSTAMP:20260422T065142
CREATED:20260319T203229Z
LAST-MODIFIED:20260319T203229Z
UID:10000943-1775901600-1775908800@fredericksburgmoms.com
SUMMARY:Siegen Forest Bluebell Walks
DESCRIPTION:Join us for a walk through the Virginia Bluebells and other spring ephemerals on Saturday April 4\, 11\, and 18 at 10am with Virginia Master Naturalist John Bryan. Virginia Bluebells (Mertensia virginica) are native wildflowers that are ephemeral. They emerge in early spring and after blooming\, disappear without a trace until the following spring. Bluebells spread through rhizomes and self seeding\, and prefer moist shady habitats like forested floodplains along rivers and streams. They first emerge as purple foliage which turns to bright green as purple buds unfurl into the unmistakable blue flowers that carpet the forest for several weeks. \nWe will be searching for other signs of spring along the way\, covering approximately 3 miles. Meet at the Historic Germanna Visitor Center. Our walk along the Rapidan River is followed by a moderate climb to a rock outcropping that provides an excellent view of the Rapidan River and surrounding forest. From there\, participants will retrace their steps along the river. \nThese walks are free but registration is required as space is limited.
URL:https://fredericksburgmoms.com/event/siegen-forest-bluebell-walks/2026-04-11/
LOCATION:Historic Germanna Visitor Center\, 2062 Germanna Hwy\, Locust Grove\, 22508
CATEGORIES:Free Events,Outdoor Events,Sports and Recreation Events,Spring Events
ATTACH;FMTTYPE=image/png:https://fredericksburgmoms.com/wp-content/uploads/2026/03/Copy-of-Siegen-Forest-Bluebell-Walks-500-x-500-px.png
ORGANIZER;CN="HistoricGermanna":MAILTO:info@germanna.org
END:VEVENT
BEGIN:VEVENT
DTSTART;TZID=America/New_York:20260411T100000
DTEND;TZID=America/New_York:20260411T140000
DTSTAMP:20260422T065142
CREATED:20260213T190856Z
LAST-MODIFIED:20260213T190856Z
UID:10000894-1775901600-1775916000@fredericksburgmoms.com
SUMMARY:Animal Allies Academy: Earth Paws\, Ages 10-12
DESCRIPTION:Earth Paws- How caring for the planet connects to caring for animals. \nJoin the Animal Allies Academy\, an engaging program designed for kids ages 6-9 & 10-12 who are eager to learn about life at an animal shelter! Kids enrolled in the Animal Allies Academy will meet on various weekend days once a month from 10:00am-2:00pm. This program will be held at the Fredericksburg SPCA\, where your child will get one-on-one interaction with animals! Participants will discover the importance of animal care\, shelter etiquette\, and responsible pet ownership through hands-on experiences and interactive activities. \nPlease be sure to confirm the age group you are registering for and that your child falls within that range.
URL:https://fredericksburgmoms.com/event/animal-allies-academy-earth-paws-ages-10-12/
LOCATION:10819 Courthouse Road\, Fredericksburg\, VA\, United States
ATTACH;FMTTYPE=image/png:https://fredericksburgmoms.com/wp-content/uploads/2026/02/Animal-Allies-Academy-2025-r84m5gj7pfyymw610z4ywtk40nog1kkkar435oytaa.png
GEO:38.21894;-77.444023
END:VEVENT
BEGIN:VEVENT
DTSTART;TZID=America/New_York:20260411T130000
DTEND;TZID=America/New_York:20260411T140000
DTSTAMP:20260422T065142
CREATED:20260403T192720Z
LAST-MODIFIED:20260403T192720Z
UID:10000972-1775912400-1775916000@fredericksburgmoms.com
SUMMARY:Puppet Show
DESCRIPTION:The Magic of Hans Christian Andersen \nApplause Unlimited celebrates one of the 20th century’s greatest storytellers with their award-winning show\, The Magic of Hans Christian Andersen. Sometimes serious and heartwarming\, sometimes downright silly\, but always fun\, the show features storytelling and song as well as over twenty hand puppets\, rod puppets\, and marionettes in three of Andersen’s best loved tales: The Ugly Duckling\, Thumbelisa\, and The Emperor’s New Clothes. Filled with humor and messages suitable for all ages\, this show presents the stories that grandparents will recognize\, parents will love to share\, and every child will long remember. \nAll tickets $20 (+$3 online fee) Under 3 years free with paying adult\nBring a lunch to enjoy before the show!
URL:https://fredericksburgmoms.com/event/puppet-show/2026-04-11/
LOCATION:Riverside Center for the Performing Arts\, 95 Riverside Parkway\, Fredericksburg\, VA\, 22406\, United States
CATEGORIES:Art,Children's Activities,Spring Events
ATTACH;FMTTYPE=image/jpeg:https://fredericksburgmoms.com/wp-content/uploads/2026/04/HCAPuppets.jpg
ORGANIZER;CN="Riverside Center for the Performing Arts":MAILTO:boxoffice@riversidedt.com
END:VEVENT
BEGIN:VEVENT
DTSTART;TZID=America/New_York:20260412T133000
DTEND;TZID=America/New_York:20260412T141500
DTSTAMP:20260422T065142
CREATED:20260209T231958Z
LAST-MODIFIED:20260209T231958Z
UID:10000889-1776000600-1776003300@fredericksburgmoms.com
SUMMARY:Semillitas: Puerto Rican Bomba Kids: Fredericksburg
DESCRIPTION:Join us to experience Puerto Rican bomba songs\, dance and music! We will play and sing and have fun as we learn!
URL:https://fredericksburgmoms.com/event/semillitas-puerto-rican-bomba-kids-fredericksburg-3/
LOCATION:Virtuous Dance Center\, 31 Utah Place\, #101\, Fredericksburg\, VA\, 22405\, United States
CATEGORIES:Children's Activities
ATTACH;FMTTYPE=image/jpeg:https://fredericksburgmoms.com/wp-content/uploads/2026/02/4d399961a22ebfc7b33ad0dc7d28a53e.jpg
END:VEVENT
END:VCALENDAR