BEGIN:VCALENDAR
VERSION:2.0
PRODID:-//Fredericksburg Moms - ECPv6.15.20//NONSGML v1.0//EN
CALSCALE:GREGORIAN
METHOD:PUBLISH
X-ORIGINAL-URL:https://fredericksburgmoms.com
X-WR-CALDESC:Events for Fredericksburg Moms
REFRESH-INTERVAL;VALUE=DURATION:PT1H
X-Robots-Tag:noindex
X-PUBLISHED-TTL:PT1H
BEGIN:VTIMEZONE
TZID:America/New_York
BEGIN:DAYLIGHT
TZOFFSETFROM:-0500
TZOFFSETTO:-0400
TZNAME:EDT
DTSTART:20250309T070000
END:DAYLIGHT
BEGIN:STANDARD
TZOFFSETFROM:-0400
TZOFFSETTO:-0500
TZNAME:EST
DTSTART:20251102T060000
END:STANDARD
BEGIN:DAYLIGHT
TZOFFSETFROM:-0500
TZOFFSETTO:-0400
TZNAME:EDT
DTSTART:20260308T070000
END:DAYLIGHT
BEGIN:STANDARD
TZOFFSETFROM:-0400
TZOFFSETTO:-0500
TZNAME:EST
DTSTART:20261101T060000
END:STANDARD
BEGIN:DAYLIGHT
TZOFFSETFROM:-0500
TZOFFSETTO:-0400
TZNAME:EDT
DTSTART:20270314T070000
END:DAYLIGHT
BEGIN:STANDARD
TZOFFSETFROM:-0400
TZOFFSETTO:-0500
TZNAME:EST
DTSTART:20271107T060000
END:STANDARD
END:VTIMEZONE
BEGIN:VEVENT
DTSTART;TZID=America/New_York:20260508T100000
DTEND;TZID=America/New_York:20260508T140000
DTSTAMP:20260423T093502
CREATED:20260330T172017Z
LAST-MODIFIED:20260330T172017Z
UID:10000962-1778234400-1778248800@fredericksburgmoms.com
SUMMARY:Homeschool Day at Historic Kenmore
DESCRIPTION:Join us at Historic Kenmore on Friday\, May 8\, 2026\, for an engaging day for homeschoolers and their caregivers that connects the past and present while building skills in historic inquiry. Participants will discover what life was like in 18th-century Virginia during its turbulent transformation from British colony to American state\, 250 years ago in this momentous year. Students will gain a deeper understanding of the diverse individuals in Fredericksburg who helped forge American Independence. \nAttendees are welcome to enjoy a picnic lunch on our grounds\, play colonial games\, explore the Historic Kenmore Visitor Center\, and complete a variety of self-guided\, take-home activities. \nStudents must be accompanied by a participating adult. \nDATE & TIMES\nFriday\, May 8\, 2026\, 10 am – 2 pm \nADMISSION\nStudents (ages 6-17) – $6\nAdults -$4\nChildren under 6 – free \nLOCATION\nHistoric Kenmore\n1201 Washington Ave\nFredericksburg\, VA 22401 \nIf you have questions\, please call 540-370-0732 or email learn@gwffoundation.org.
URL:https://fredericksburgmoms.com/event/homeschool-day-at-historic-kenmore/
LOCATION:Historic Kenmore\, 1201 Washington Ave.\, Fredericksburg\, VA\, 22401
CATEGORIES:Children's Activities,Educational
ATTACH;FMTTYPE=image/png:https://fredericksburgmoms.com/wp-content/uploads/2026/03/HomeschoolDayHKCover-Marketing26.png
ORGANIZER;CN="The George Washington Foundation":MAILTO:learn@gwffoundation.org
END:VEVENT
BEGIN:VEVENT
DTSTART;TZID=America/New_York:20260516T130000
DTEND;TZID=America/New_York:20260516T150000
DTSTAMP:20260423T093502
CREATED:20260420T134346Z
LAST-MODIFIED:20260420T134346Z
UID:10000979-1778936400-1778943600@fredericksburgmoms.com
SUMMARY:Family Fun & Wellness Day!
DESCRIPTION:Leadership-Academy-of-Virginia-FamilyDay&OpenHouse
URL:https://fredericksburgmoms.com/event/family-fun-wellness-day/
LOCATION:Family Fun & Wellness Day\, 1127 International Parkway\,\, Fredericksburg\, VA\, 22406\, United States
CATEGORIES:Children's Activities,Community Events,Educational,Family Events,Health and Wellness Events
ATTACH;FMTTYPE=image/png:https://fredericksburgmoms.com/wp-content/uploads/2026/04/LAV-Open-House-Front-Postcard.png
ORGANIZER;CN="LeadershipAcademyofVirginia":MAILTO:michele@leadershipacademyofva.com
END:VEVENT
BEGIN:VEVENT
DTSTART;TZID=America/New_York:20260517T100000
DTEND;TZID=America/New_York:20260517T120000
DTSTAMP:20260423T093502
CREATED:20260330T172439Z
LAST-MODIFIED:20260330T172439Z
UID:10000963-1779012000-1779019200@fredericksburgmoms.com
SUMMARY:Sensory-Friendly Morning at Ferry Farm
DESCRIPTION:Families and individuals with special needs are invited to visit Ferry Farm\, George Washington’s Boyhood Home\, for a sensory-friendly experience. Join us from 10 am to 12 pm on Sunday\, May 17—when we will be closed to the general public—to explore the replica Washington House; walk along the Rappahannock River; and learn about the lives of George\, his mother Mary\, other Washington family members\, and the enslaved community who lived here in the eighteenth century. \nTwenty-minute guided tours of the Washington House will be offered at 10:10 am\, 10:20 am\, and 10:30 am. From 11 am to 12 pm\, the House will be open for self-paced walkthrough tours\, with historic interpreters available to answer questions. Pre-registration is required for guided and walkthrough tours. The guided tours will be capped at 15 tours. Forty-five walkthrough tour tickets will be available. \nTouch and smell boxes will be available in the visitor center\, which also features the introductory exhibit The Science of History at Ferry Farm\, showcasing colonial and Civil War artifacts excavated at Ferry Farm. Visitors can peek into the Archaeology Lab\, home to some of the thousands of artifacts found at Ferry Farm. \nNeed to take a break? A sensory room will be available. \nThe first 25 people to register will receive a complimentary sensory bag. \nVisitors are welcome to bring a picnic lunch to eat while on-site. \nAdmission\nAdults: $13.00\nStudents: $6.00\nChildren under 5: free \n*Preregistration only (guided tours capped at 15 people each\, walkthrough tour capped at 45 total) \nDate and Time\nSunday\, May 17\, 2026\n10 AM to 12 noon \nAddress\nGeorge Washington’s Ferry Farm\n268 George Washington Way\nFredericksburg\, VA 22405 \nIf you have questions about this program\, email learn@gwffoundation.org or call 540-370-0732.
URL:https://fredericksburgmoms.com/event/sensory-friendly-morning-at-ferry-farm/
LOCATION:George Washington’s Ferry Farm\, 268 George Washington Way\, Fredericksburg\, VA\, 22405
CATEGORIES:Children's Activities,Educational,Family Events
ATTACH;FMTTYPE=image/png:https://fredericksburgmoms.com/wp-content/uploads/2026/03/Sensory-Friendly-Cover-2026.png
ORGANIZER;CN="The George Washington Foundation":MAILTO:learn@gwffoundation.org
END:VEVENT
END:VCALENDAR