BEGIN:VCALENDAR
VERSION:2.0
PRODID:-//Fredericksburg Moms - ECPv6.15.20//NONSGML v1.0//EN
CALSCALE:GREGORIAN
METHOD:PUBLISH
X-ORIGINAL-URL:https://fredericksburgmoms.com
X-WR-CALDESC:Events for Fredericksburg Moms
REFRESH-INTERVAL;VALUE=DURATION:PT1H
X-Robots-Tag:noindex
X-PUBLISHED-TTL:PT1H
BEGIN:VTIMEZONE
TZID:America/New_York
BEGIN:DAYLIGHT
TZOFFSETFROM:-0500
TZOFFSETTO:-0400
TZNAME:EDT
DTSTART:20250309T070000
END:DAYLIGHT
BEGIN:STANDARD
TZOFFSETFROM:-0400
TZOFFSETTO:-0500
TZNAME:EST
DTSTART:20251102T060000
END:STANDARD
BEGIN:DAYLIGHT
TZOFFSETFROM:-0500
TZOFFSETTO:-0400
TZNAME:EDT
DTSTART:20260308T070000
END:DAYLIGHT
BEGIN:STANDARD
TZOFFSETFROM:-0400
TZOFFSETTO:-0500
TZNAME:EST
DTSTART:20261101T060000
END:STANDARD
BEGIN:DAYLIGHT
TZOFFSETFROM:-0500
TZOFFSETTO:-0400
TZNAME:EDT
DTSTART:20270314T070000
END:DAYLIGHT
BEGIN:STANDARD
TZOFFSETFROM:-0400
TZOFFSETTO:-0500
TZNAME:EST
DTSTART:20271107T060000
END:STANDARD
END:VTIMEZONE
BEGIN:VEVENT
DTSTART;TZID=America/New_York:20260502T180000
DTEND;TZID=America/New_York:20260601T213000
DTSTAMP:20260421T055929
CREATED:20260403T000906Z
LAST-MODIFIED:20260403T000906Z
UID:10000971-1777744800-1780349400@fredericksburgmoms.com
SUMMARY:Family-Friendly Metal Concert
DESCRIPTION:Saturday\, May 2\, 2026\n7:00 p.m. (doors open at 6:00 p.m.)\nGrace Church of Fredericksburg\n141 Heatherstone Drive\nFredericksburg\, Virginia 22407 \nGet ready for an epic live experience with Wolves at the Gate\, Bloodlines\, and Heal the Hurt presented by Daniel Hughes Realtor! This in-person event is your chance to catch the raw energy and killer vibes of the band up close. Whether you’re a long-time fan or just curious\, expect powerful tunes\, great company\, and a night to remember. Don’t miss out on this awesome gathering—pack your enthusiasm and join the fun! \nWolves at the Gate is an American Christian metalcore band that originated from Cedarville\, Ohio. Formed in 2008\, they are currently signed to Solid State Records\, where the band has released five EPs: We Are the Ones (2011)\, Back to School (2013)\, Reprise (2015)\, Dawn (2020)\, and Lowborn (2022)\, six full-length albums: Captors (2012)\, VxV (2014)\, Types & Shadows (2016)\, Eclipse (2019)\, Eulogies (2022)\, and Wasteland (2025) and three Christmas singles over the years. \nBloodlines is an American Christian metalcore band that originated from the Gulf Coast in Texas. Formed in 2014\, they are currently signed to Facedown Records\, where the band has released two EPs: Hevel (2021) and Holiness Cries (2024) and one full-length album: Hostile | Minds (2019). \nHeal the Hurt is an American Christian metalcore band that originated from Georgia. Formed in 2024\, they are currently independent\, having released three EPs: Heal the Hurt (2024)\, Three Bar Cross (2025)\, and Swansong (2026)\, one full-length album: This Pain Will Serve You (2025)\, and several singles including Withering (2024)\, RUIN (2024)\, Where Our Hearts Divide (2024)\, Stained Glass (2024\, feat. HolyName)\, Wanderer (2025)\, and Still Haunted (2025\, feat. Confessions Of A Traitor and HolyName). \nMade possible by generous support from Graze Craze\, the Fredericksburg Christian School\, Crunch Fitness\, Ruppert Landscaping\, and Wegmans.
URL:https://fredericksburgmoms.com/event/family-friendly-metal-concert/
LOCATION:Grace Church of Fredericksburg\, 1141 Heatherstone Drive\, Fredericksburg\, 22407
CATEGORIES:Live Music
ATTACH;FMTTYPE=image/jpeg:https://fredericksburgmoms.com/wp-content/uploads/2026/04/IMG_2142.jpeg
ORGANIZER;CN="Second Sons Promotions":MAILTO:contact@secondsonspromotions.com
END:VEVENT
BEGIN:VEVENT
DTSTART;TZID=America/New_York:20260503T073000
DTEND;TZID=America/New_York:20260503T113000
DTSTAMP:20260421T055929
CREATED:20260216T173728Z
LAST-MODIFIED:20260216T174138Z
UID:10000895-1777793400-1777807800@fredericksburgmoms.com
SUMMARY:Great Train Race
DESCRIPTION:Run the Great Train Race!\nThe Great Train Race has been a tradition in Fredericksburg Virginia for over 30 years! The event is one of the largest timed kid’s races on the east coast. Young runners get the rare opportunity to compete in a race just for them.  \nThe race starts near the Fredericksburg Train Station and runs through historic downtown. Runners cross the Crown Trophy Finish Line at the City Docks. Runners and families are invited to the Race Festival located in the commuter lot behind the Train Station for awards\, music\, vendors\, and treats. \nThe race consists of 3 events for kids under 18:  \nThe 1-mile Express for ages 6 to 17\nThe 1/2-mile George Dashington for ages 10 and under\nThe 1/4-mile Caboose Run for ages 5 and under\nThe Express and George Dashington will be chip timed races. The Caboose Run is a fun run and will not be timed. \nAll runners receive a finishers medal and race shirt (shirts are only guaranteed when registered before April 1st).
URL:https://fredericksburgmoms.com/event/kickin-4-kellan-6-20k-family-fun-run/
LOCATION:Fredericksburg Train Station\, Caroline St and Lafayette Blvd\, 22401\, United States
ATTACH;FMTTYPE=image/png:https://fredericksburgmoms.com/wp-content/uploads/2026/02/GTR-700-x-700-px.png
ORGANIZER;CN="Fredericksburg Area Running Club":MAILTO:gtr@runfarc.com
END:VEVENT
BEGIN:VEVENT
DTSTART;TZID=America/New_York:20260503T130000
DTEND;TZID=America/New_York:20260503T180000
DTSTAMP:20260421T055929
CREATED:20260309T174011Z
LAST-MODIFIED:20260309T174011Z
UID:10000917-1777813200-1777831200@fredericksburgmoms.com
SUMMARY:Pick-Up & Play
DESCRIPTION:https://www.fredericksburgva.gov/calendar.aspx?EID=3830
URL:https://fredericksburgmoms.com/event/pick-up-play/
LOCATION:Old Mill Park  – 2201 Caroline st  Fredericksburg VA 22401
END:VEVENT
BEGIN:VEVENT
DTSTART;TZID=America/New_York:20260503T133000
DTEND;TZID=America/New_York:20260503T141500
DTSTAMP:20260421T055929
CREATED:20260209T231958Z
LAST-MODIFIED:20260209T231958Z
UID:10000890-1777815000-1777817700@fredericksburgmoms.com
SUMMARY:Semillitas: Puerto Rican Bomba Kids: Fredericksburg
DESCRIPTION:Join us to experience Puerto Rican bomba songs\, dance and music! We will play and sing and have fun as we learn!
URL:https://fredericksburgmoms.com/event/semillitas-puerto-rican-bomba-kids-fredericksburg-4/
LOCATION:Virtuous Dance Center\, 31 Utah Place\, #101\, Fredericksburg\, VA\, 22405\, United States
CATEGORIES:Children's Activities
ATTACH;FMTTYPE=image/jpeg:https://fredericksburgmoms.com/wp-content/uploads/2026/02/4d399961a22ebfc7b33ad0dc7d28a53e.jpg
END:VEVENT
END:VCALENDAR